Workbook
Name 수입: 표2[수입과목]
Name 지출: 표3[지출과목]

Sheet Home
B2: 일반 회계장부
B4: 수입/지출내역 입력
B5: 일자 | C5: 구분 | D5: 계정과목 | E5: 적요 | F5: 금액 | G5: 비고 | I5: 수입과목 | K5: 지출과목
B6: 43535 | C6: 수입 | D6: 이자수입 | E6: 적요_3 | F6: 300000 | I6: 임대수입 | K6: 식대
B7: 43576 | C7: 지출 | D7: 비품구입 | E7: 적요_4 | F7: 300000 | I7: 이자수입 | K7: 비품구입
B8: 43588 | C8: 수입 | D8: 매출수입 | E8: 적요_5 | F8: 4000000 | I8: 매출수입 | K8: 매입비용
B9: 43641 | C9: 지출 | D9: 식대 | E9: 적요_6 | F9: 120000 | I9: 수수료 | K9: 수수료
B10: 43649 | C10: 수입 | D10: 임대수입 | E10: 적요_7 | F10: 1200000 | I10: 기타수입1 | K10: 기타지출1
B11: 43692 | C11: 지출 | D11: 기타지출2 | E11: 적요_8 | F11: 700000 | I11: 기타수입2 | K11: 기타지출2
B12: 43709 | C12: 수입 | D12: 수수료 | E12: 적요_9 | F12: 350000
B13: 43759 | C13: 지출 | D13: 매입비용 | E13: 적요_10 | F13: 400000
B14: 43780 | C14: 수입 | D14: 매출수입 | E14: 적요_11 | F14: 8000000
B15: 43830 | C15: 지출 | D15: 매입비용 | E15: 적요_12 | F15: 850000
B16: 43835 | C16: 수입 | D16: 수수료 | E16: 적요_13 | F16: 220000
B17: 43870 | C17: 지출 | D17: 식대 | E17: 적요_14 | F17: 150000
B18: 43905 | C18: 수입 | D18: 임대수입 | E18: 적요_15 | F18: 1200000
B19: 43924 | C19: 지출 | D19: 비품구입 | E19: 적요_16 | F19: 1000000
B20: 43972 | C20: 수입 | D20: 기타수입2 | E20: 적요_17 | F20: 300000
B21: 44001 | C21: 지출 | D21: 수수료 | E21: 적요_18 | F21: 150000
B22: 44041 | C22: 수입 | D22: 임대수입 | E22: 적요_19 | F22: 150000
B23: 44055 | C23: 지출 | D23: 기타지출1 | E23: 적요_20 | F23: 750000
... B39: 44546 | C39: 지출 | D39: 매입비용 | E39: 적요_36 | F39: 3000000

Sheet Data
B2: 일반 회계장부
B4: 월별 수입 및 지출 현황
B6: ⓛ 검색조건 | H6: ② 수입과목별 금액 현황
B7: 연도 | C7: 2021 | H7: 수입과목 | I7: 금액 | J7: 수입비율 | K7: 비고
B8: 구분 | H8: 임대수입 | I8: =IF($H8="","",SUMPRODUCT((표1[구분]="수입")*(표1[계정과목]=$H8)*(표1[금액]))) -> 6850000 | J8: =IF($H8="","",$I8/SUMPRODUCT((표1[구분]="수입")*(표1[금액]))) -> 0.21732234
B9: 계정과목 | H9: 이자수입 | I9: =IF($H9="","",SUMPRODUCT((표1[구분]="수입")*(표1[계정과목]=$H9)*(표1[금액]))) -> 2000000 | J9: =IF($H9="","",$I9/SUMPRODUCT((표1[구분]="수입")*(표1[금액]))) -> 0.063451777
H10: 매출수입 | I10: =IF($H10="","",SUMPRODUCT((표1[구분]="수입")*(표1[계정과목]=$H10)*(표1[금액]))) -> 12800000 | J10: =IF($H10="","",$I10/SUMPRODUCT((표1[구분]="수입")*(표1[금액]))) -> 0.40609137
B11: 월 | C11: 수입액 | D11: 지출액 | E11: 합계 | H11: 수수료 | I11: =IF($H11="","",SUMPRODUCT((표1[구분]="수입")*(표1[계정과목]=$H11)*(표1[금액]))) -> 570000 | J11: =IF($H11="","",$I11/SUMPRODUCT((표1[구분]="수입")*(표1[금액]))) -> 0.018083756
B12: 1 | C12: =IF(OR(AND($C$8="",$C$9=""),AND($C$8="수입",$C$9="")),SUMPRODUCT((YEAR(표1[일자])=$C$7)*(MONTH(표1[일자])=$B12)*(표1[구분]="수입")*(표1[금액])),IF(AND($C$8="수입",$C$9<>""),SUMPRODUCT((YEAR(표1[일자])=$C$7)*(MONTH(표1[일자])=$B12)*(표1[구분]="수입")*(표1[계정과목]=$C$9)*(표1[금액])),0)) -> 300000 | D12: =IF(OR(AND($C$8="",$C$9=""),AND($C$8="지출",$C$9="")),SUMPRODUCT((YEAR(표1[일자])=$C$7)*(MONTH(표1[일자])=$B12)*(표1[구분]="지출")*(표1[금액])),IF(AND($C$8="지출",$C$9<>""),SUMPRODUCT((YEAR(표1[일자])=$C$7)*(MONTH(표1[일자])=$B12)*(표1[구분]="지출")*(표1[계정과목]=$C$9)*(표1[금액])),0)) -> 0 | E12: =$C12-$D12 -> 300000 | H12: 기타수입1 | I12: =IF($H12="","",SUMPRODUCT((표1[구분]="수입")*(표1[계정과목]=$H12)*(표1[금액]))) -> 6000000 | J12: =IF($H12="","",$I12/SUMPRODUCT((표1[구분]="수입")*(표1[금액]))) -> 0.19035533
B13: 2 | C13: =IF(OR(AND($C$8="",$C$9=""),AND($C$8="수입",$C$9="")),SUMPRODUCT((YEAR(표1[일자])=$C$7)*(MONTH(표1[일자])=$B13)*(표1[구분]="수입")*(표1[금액])),IF(AND($C$8="수입",$C$9<>""),SUMPRODUCT((YEAR(표1[일자])=$C$7)*(MONTH(표1[일자])=$B13)*(표1[구분]="수입")*(표1[계정과목]=$C$9)*(표1[금액])),0)) -> 0 | D13: =IF(OR(AND($C$8="",$C$9=""),AND($C$8="지출",$C$9="")),SUMPRODUCT((YEAR(표1[일자])=$C$7)*(MONTH(표1[일자])=$B13)*(표1[구분]="지출")*(표1[금액])),IF(AND($C$8="지출",$C$9<>""),SUMPRODUCT((YEAR(표1[일자])=$C$7)*(MONTH(표1[일자])=$B13)*(표1[구분]="지출")*(표1[계정과목]=$C$9)*(표1[금액])),0)) -> 300000 | E13: =$C13-$D13 -> -300000 | H13: 기타수입2 | I13: =IF($H13="","",SUMPRODUCT((표1[구분]="수입")*(표1[계정과목]=$H13)*(표1[금액]))) -> 3300000 | J13: =IF($H13="","",$I13/SUMPRODUCT((표1[구분]="수입")*(표1[금액]))) -> 0.10469543
B14: 3 | C14: =IF(OR(AND($C$8="",$C$9=""),AND($C$8="수입",$C$9="")),SUMPRODUCT((YEAR(표1[일자])=$C$7)*(MONTH(표1[일자])=$B14)*(표1[구분]="수입")*(표1[금액])),IF(AND($C$8="수입",$C$9<>""),SUMPRODUCT((YEAR(표1[일자])=$C$7)*(MONTH(표1[일자])=$B14)*(표1[구분]="수입")*(표1[계정과목]=$C$9)*(표1[금액])),0)) -> 900000 | D14: =IF(OR(AND($C$8="",$C$9=""),AND($C$8="지출",$C$9="")),SUMPRODUCT((YEAR(표1[일자])=$C$7)*(MONTH(표1[일자])=$B14)*(표1[구분]="지출")*(표1[금액])),IF(AND($C$8="지출",$C$9<>""),SUMPRODUCT((YEAR(표1[일자])=$C$7)*(MONTH(표1[일자])=$B14)*(표1[구분]="지출")*(표1[계정과목]=$C$9)*(표1[금액])),0)) -> 0 | E14: =$C14-$D14 -> 900000 | H14: 합계 | I14: =SUM(I$8:I$13) -> 31520000
B15: 4 | C15: =IF(OR(AND($C$8="",$C$9=""),AND($C$8="수입",$C$9="")),SUMPRODUCT((YEAR(표1[일자])=$C$7)*(MONTH(표1[일자])=$B15)*(표1[구분]="수입")*(표1[금액])),IF(AND($C$8="수입",$C$9<>""),SUMPRODUCT((YEAR(표1[일자])=$C$7)*(MONTH(표1[일자])=$B15)*(표1[구분]="수입")*(표1[계정과목]=$C$9)*(표1[금액])),0)) -> 0 | D15: =IF(OR(AND($C$8="",$C$9=""),AND($C$8="지출",$C$9="")),SUMPRODUCT((YEAR(표1[일자])=$C$7)*(MONTH(표1[일자])=$B15)*(표1[구분]="지출")*(표1[금액])),IF(AND($C$8="지출",$C$9<>""),SUMPRODUCT((YEAR(표1[일자])=$C$7)*(MONTH(표1[일자])=$B15)*(표1[구분]="지출")*(표1[계정과목]=$C$9)*(표1[금액])),0)) -> 700000 | E15: =$C15-$D15 -> -700000
B16: 5 | C16: =IF(OR(AND($C$8="",$C$9=""),AND($C$8="수입",$C$9="")),SUMPRODUCT((YEAR(표1[일자])=$C$7)*(MONTH(표1[일자])=$B16)*(표1[구분]="수입")*(표1[금액])),IF(AND($C$8="수입",$C$9<>""),SUMPRODUCT((YEAR(표1[일자])=$C$7)*(MONTH(표1[일자])=$B16)*(표1[구분]="수입")*(표1[계정과목]=$C$9)*(표1[금액])),0)) -> 800000 | D16: =IF(OR(AND($C$8="",$C$9=""),AND($C$8="지출",$C$9="")),SUMPRODUCT((YEAR(표1[일자])=$C$7)*(MONTH(표1[일자])=$B16)*(표1[구분]="지출")*(표1[금액])),IF(AND($C$8="지출",$C$9<>""),SUMPRODUCT((YEAR(표1[일자])=$C$7)*(MONTH(표1[일자])=$B16)*(표1[구분]="지출")*(표1[계정과목]=$C$9)*(표1[금액])),0)) -> 0 | E16: =$C16-$D16 -> 800000 | H16: ③ 지출과목별 금액 현황
B17: 6 | C17: =IF(OR(AND($C$8="",$C$9=""),AND($C$8="수입",$C$9="")),SUMPRODUCT((YEAR(표1[일자])=$C$7)*(MONTH(표1[일자])=$B17)*(표1[구분]="수입")*(표1[금액])),IF(AND($C$8="수입",$C$9<>""),SUMPRODUCT((YEAR(표1[일자])=$C$7)*(MONTH(표1[일자])=$B17)*(표1[구분]="수입")*(표1[계정과목]=$C$9)*(표1[금액])),0)) -> 0 | D17: =IF(OR(AND($C$8="",$C$9=""),AND($C$8="지출",$C$9="")),SUMPRODUCT((YEAR(표1[일자])=$C$7)*(MONTH(표1[일자])=$B17)*(표1[구분]="지출")*(표1[금액])),IF(AND($C$8="지출",$C$9<>""),SUMPRODUCT((YEAR(표1[일자])=$C$7)*(MONTH(표1[일자])=$B17)*(표1[구분]="지출")*(표1[계정과목]=$C$9)*(표1[금액])),0)) -> 700000 | E17: =$C17-$D17 -> -700000 | H17: 지출과목 | I17: 금액 | J17: 지출비율 | K17: 비고
B18: 7 | C18: =IF(OR(AND($C$8="",$C$9=""),AND($C$8="수입",$C$9="")),SUMPRODUCT((YEAR(표1[일자])=$C$7)*(MONTH(표1[일자])=$B18)*(표1[구분]="수입")*(표1[금액])),IF(AND($C$8="수입",$C$9<>""),SUMPRODUCT((YEAR(표1[일자])=$C$7)*(MONTH(표1[일자])=$B18)*(표1[구분]="수입")*(표1[계정과목]=$C$9)*(표1[금액])),0)) -> 500000 | D18: =IF(OR(AND($C$8="",$C$9=""),AND($C$8="지출",$C$9="")),SUMPRODUCT((YEAR(표1[일자])=$C$7)*(MONTH(표1[일자])=$B18)*(표1[구분]="지출")*(표1[금액])),IF(AND($C$8="지출",$C$9<>""),SUMPRODUCT((YEAR(표1[일자])=$C$7)*(MONTH(표1[일자])=$B18)*(표1[구분]="지출")*(표1[계정과목]=$C$9)*(표1[금액])),0)) -> 0 | E18: =$C18-$D18 -> 500000 | H18: 식대 | I18: =IF($H18="","",SUMPRODUCT((표1[구분]="지출")*(표1[계정과목]=$H18)*(표1[금액]))) -> 770000 | J18: =IF($H18="","",$I18/SUMPRODUCT((표1[구분]="지출")*(표1[금액]))) -> 0.052168022
B19: 8 | C19: =IF(OR(AND($C$8="",$C$9=""),AND($C$8="수입",$C$9="")),SUMPRODUCT((YEAR(표1[일자])=$C$7)*(MONTH(표1[일자])=$B19)*(표1[구분]="수입")*(표1[금액])),IF(AND($C$8="수입",$C$9<>""),SUMPRODUCT((YEAR(표1[일자])=$C$7)*(MONTH(표1[일자])=$B19)*(표1[구분]="수입")*(표1[계정과목]=$C$9)*(표1[금액])),0)) -> 0 | D19: =IF(OR(AND($C$8="",$C$9=""),AND($C$8="지출",$C$9="")),SUMPRODUCT((YEAR(표1[일자])=$C$7)*(MONTH(표1[일자])=$B19)*(표1[구분]="지출")*(표1[금액])),IF(AND($C$8="지출",$C$9<>""),SUMPRODUCT((YEAR(표1[일자])=$C$7)*(MONTH(표1[일자])=$B19)*(표1[구분]="지출")*(표1[계정과목]=$C$9)*(표1[금액])),0)) -> 500000 | E19: =$C19-$D19 -> -500000 | H19: 비품구입 | I19: =IF($H19="","",SUMPRODUCT((표1[구분]="지출")*(표1[계정과목]=$H19)*(표1[금액]))) -> 2640000 | J19: =IF($H19="","",$I19/SUMPRODUCT((표1[구분]="지출")*(표1[금액]))) -> 0.17886179
B20: 9 | C20: =IF(OR(AND($C$8="",$C$9=""),AND($C$8="수입",$C$9="")),SUMPRODUCT((YEAR(표1[일자])=$C$7)*(MONTH(표1[일자])=$B20)*(표1[구분]="수입")*(표1[금액])),IF(AND($C$8="수입",$C$9<>""),SUMPRODUCT((YEAR(표1[일자])=$C$7)*(MONTH(표1[일자])=$B20)*(표1[구분]="수입")*(표1[계정과목]=$C$9)*(표1[금액])),0)) -> 4000000 | D20: =IF(OR(AND($C$8="",$C$9=""),AND($C$8="지출",$C$9="")),SUMPRODUCT((YEAR(표1[일자])=$C$7)*(MONTH(표1[일자])=$B20)*(표1[구분]="지출")*(표1[금액])),IF(AND($C$8="지출",$C$9<>""),SUMPRODUCT((YEAR(표1[일자])=$C$7)*(MONTH(표1[일자])=$B20)*(표1[구분]="지출")*(표1[계정과목]=$C$9)*(표1[금액])),0)) -> 0 | E20: =$C20-$D20 -> 4000000 | H20: 매입비용 | I20: =IF($H20="","",SUMPRODUCT((표1[구분]="지출")*(표1[계정과목]=$H20)*(표1[금액]))) -> 5550000 | J20: =IF($H20="","",$I20/SUMPRODUCT((표1[구분]="지출")*(표1[금액]))) -> 0.37601626
B21: 10 | C21: =IF(OR(AND($C$8="",$C$9=""),AND($C$8="수입",$C$9="")),SUMPRODUCT((YEAR(표1[일자])=$C$7)*(MONTH(표1[일자])=$B21)*(표1[구분]="수입")*(표1[금액])),IF(AND($C$8="수입",$C$9<>""),SUMPRODUCT((YEAR(표1[일자])=$C$7)*(MONTH(표1[일자])=$B21)*(표1[구분]="수입")*(표1[계정과목]=$C$9)*(표1[금액])),0)) -> 0 | D21: =IF(OR(AND($C$8="",$C$9=""),AND($C$8="지출",$C$9="")),SUMPRODUCT((YEAR(표1[일자])=$C$7)*(MONTH(표1[일자])=$B21)*(표1[구분]="지출")*(표1[금액])),IF(AND($C$8="지출",$C$9<>""),SUMPRODUCT((YEAR(표1[일자])=$C$7)*(MONTH(표1[일자])=$B21)*(표1[구분]="지출")*(표1[계정과목]=$C$9)*(표1[금액])),0)) -> 3500000 | E21: =$C21-$D21 -> -3500000 | H21: 수수료 | I21: =IF($H21="","",SUMPRODUCT((표1[구분]="지출")*(표1[계정과목]=$H21)*(표1[금액]))) -> 4350000 | J21: =IF($H21="","",$I21/SUMPRODUCT((표1[구분]="지출")*(표1[금액]))) -> 0.29471545
B22: 11 | C22: =IF(OR(AND($C$8="",$C$9=""),AND($C$8="수입",$C$9="")),SUMPRODUCT((YEAR(표1[일자])=$C$7)*(MONTH(표1[일자])=$B22)*(표1[구분]="수입")*(표1[금액])),IF(AND($C$8="수입",$C$9<>""),SUMPRODUCT((YEAR(표1[일자])=$C$7)*(MONTH(표1[일자])=$B22)*(표1[구분]="수입")*(표1[계정과목]=$C$9)*(표1[금액])),0)) -> 6000000 | D22: =IF(OR(AND($C$8="",$C$9=""),AND($C$8="지출",$C$9="")),SUMPRODUCT((YEAR(표1[일자])=$C$7)*(MONTH(표1[일자])=$B22)*(표1[구분]="지출")*(표1[금액])),IF(AND($C$8="지출",$C$9<>""),SUMPRODUCT((YEAR(표1[일자])=$C$7)*(MONTH(표1[일자])=$B22)*(표1[구분]="지출")*(표1[계정과목]=$C$9)*(표1[금액])),0)) -> 0 | E22: =$C22-$D22 -> 6000000 | H22: 기타지출1 | I22: =IF($H22="","",SUMPRODUCT((표1[구분]="지출")*(표1[계정과목]=$H22)*(표1[금액]))) -> 750000 | J22: =IF($H22="","",$I22/SUMPRODUCT((표1[구분]="지출")*(표1[금액]))) -> 0.050813008
B23: 12 | C23: =IF(OR(AND($C$8="",$C$9=""),AND($C$8="수입",$C$9="")),SUMPRODUCT((YEAR(표1[일자])=$C$7)*(MONTH(표1[일자])=$B23)*(표1[구분]="수입")*(표1[금액])),IF(AND($C$8="수입",$C$9<>""),SUMPRODUCT((YEAR(표1[일자])=$C$7)*(MONTH(표1[일자])=$B23)*(표1[구분]="수입")*(표1[계정과목]=$C$9)*(표1[금액])),0)) -> 0 | D23: =IF(OR(AND($C$8="",$C$9=""),AND($C$8="지출",$C$9="")),SUMPRODUCT((YEAR(표1[일자])=$C$7)*(MONTH(표1[일자])=$B23)*(표1[구분]="지출")*(표1[금액])),IF(AND($C$8="지출",$C$9<>""),SUMPRODUCT((YEAR(표1[일자])=$C$7)*(MONTH(표1[일자])=$B23)*(표1[구분]="지출")*(표1[계정과목]=$C$9)*(표1[금액])),0)) -> 3000000 | E23: =$C23-$D23 -> -3000000 | H23: 기타지출2 | I23: =IF($H23="","",SUMPRODUCT((표1[구분]="지출")*(표1[계정과목]=$H23)*(표1[금액]))) -> 700000 | J23: =IF($H23="","",$I23/SUMPRODUCT((표1[구분]="지출")*(표1[금액]))) -> 0.047425474
B24: 합계 | C24: =SUM(C$12:C$23) -> 12500000 | D24: =SUM(D$12:D$23) -> 8700000 | E24: =SUM(E$12:E$23) -> 3800000 | H24: 합계 | I24: =SUM(I$18:I$23) -> 14760000
B26: ※ 해당 현황은 번호(①, ②, ③, ④)에 맞춰 대시보드에 반영됩니다.

Sheet Dashboard
B2: 일반 회계장부
L11: =Data!$C$7&"년" -> 2021년

Sheet option
A1: 수입과목 | B1: 금액 | C1: 지출과목 | D1: 금액 | E1: 수입순위 | F1: 최고수입과목 | G1: 지출순위 | H1: 최고지출과목 | J1: 연도 | K1: 연도코드
A2: =Home!$I6 -> 임대수입 | B2: =SUMPRODUCT((표1[구분]="수입")*(표1[계정과목]=$A2)*(표1[금액])) -> 6850000 | C2: =Home!$K6 -> 식대 | D2: =SUMPRODUCT((표1[구분]="지출")*(표1[계정과목]=$C2)*(표1[금액])) -> 770000 | E2: =_xlfn.RANK.EQ($B2,$B$2:$B$8,0) -> 2 | F2: =IF($E2=1,$A2,"") | G2: =_xlfn.RANK.EQ($D2,$D$2:$D$8,0) -> 4 | H2: =IF($G2=1,$C2,"") | J2: 2015 | K2: 7
A3: =Home!$I7 -> 이자수입 | B3: =SUMPRODUCT((표1[구분]="수입")*(표1[계정과목]=$A3)*(표1[금액])) -> 2000000 | C3: =Home!$K7 -> 비품구입 | D3: =SUMPRODUCT((표1[구분]="지출")*(표1[계정과목]=$C3)*(표1[금액])) -> 2640000 | E3: =_xlfn.RANK.EQ($B3,$B$2:$B$8,0) -> 5 | F3: =IF($E3=1,$A3,"") | G3: =_xlfn.RANK.EQ($D3,$D$2:$D$8,0) -> 3 | H3: =IF($G3=1,$C3,"") | J3: 2016
A4: =Home!$I8 -> 매출수입 | B4: =SUMPRODUCT((표1[구분]="수입")*(표1[계정과목]=$A4)*(표1[금액])) -> 12800000 | C4: =Home!$K8 -> 매입비용 | D4: =SUMPRODUCT((표1[구분]="지출")*(표1[계정과목]=$C4)*(표1[금액])) -> 5550000 | E4: =_xlfn.RANK.EQ($B4,$B$2:$B$8,0) -> 1 | F4: =IF($E4=1,$A4,"") -> 매출수입 | G4: =_xlfn.RANK.EQ($D4,$D$2:$D$8,0) -> 1 | H4: =IF($G4=1,$C4,"") -> 매입비용 | J4: 2017
A5: =Home!$I9 -> 수수료 | B5: =SUMPRODUCT((표1[구분]="수입")*(표1[계정과목]=$A5)*(표1[금액])) -> 570000 | C5: =Home!$K9 -> 수수료 | D5: =SUMPRODUCT((표1[구분]="지출")*(표1[계정과목]=$C5)*(표1[금액])) -> 4350000 | E5: =_xlfn.RANK.EQ($B5,$B$2:$B$8,0) -> 6 | F5: =IF($E5=1,$A5,"") | G5: =_xlfn.RANK.EQ($D5,$D$2:$D$8,0) -> 2 | H5: =IF($G5=1,$C5,"") | J5: 2018
A6: =Home!$I10 -> 기타수입1 | B6: =SUMPRODUCT((표1[구분]="수입")*(표1[계정과목]=$A6)*(표1[금액])) -> 6000000 | C6: =Home!$K10 -> 기타지출1 | D6: =SUMPRODUCT((표1[구분]="지출")*(표1[계정과목]=$C6)*(표1[금액])) -> 750000 | E6: =_xlfn.RANK.EQ($B6,$B$2:$B$8,0) -> 3 | F6: =IF($E6=1,$A6,"") | G6: =_xlfn.RANK.EQ($D6,$D$2:$D$8,0) -> 5 | H6: =IF($G6=1,$C6,"") | J6: 2019
A7: =Home!$I11 -> 기타수입2 | B7: =SUMPRODUCT((표1[구분]="수입")*(표1[계정과목]=$A7)*(표1[금액])) -> 3300000 | C7: =Home!$K11 -> 기타지출2 | D7: =SUMPRODUCT((표1[구분]="지출")*(표1[계정과목]=$C7)*(표1[금액])) -> 700000 | E7: =_xlfn.RANK.EQ($B7,$B$2:$B$8,0) -> 4 | F7: =IF($E7=1,$A7,"") | G7: =_xlfn.RANK.EQ($D7,$D$2:$D$8,0) -> 6 | H7: =IF($G7=1,$C7,"") | J7: 2020
A8: =Home!$I12 -> 0 | B8: =SUMPRODUCT((표1[구분]="수입")*(표1[계정과목]=$A8)*(표1[금액])) -> 0 | C8: =Home!$K12 -> 0 | D8: =SUMPRODUCT((표1[구분]="지출")*(표1[계정과목]=$C8)*(표1[금액])) -> 0 | E8: =_xlfn.RANK.EQ($B8,$B$2:$B$8,0) -> 7 | F8: =IF($E8=1,$A8,"") | G8: =_xlfn.RANK.EQ($D8,$D$2:$D$8,0) -> 7 | H8: =IF($G8=1,$C8,"") | J8: 2021
J9: 2022
J10: 2023
A11: 최고수입과목 | B11: 최고지출과목 | C11: 수입합계 | D11: 지출합계 | E11: 차액 | J11: 2024
A12: =IFERROR(VLOOKUP(1,$E$1:$F$8,2,FALSE),"") -> 매출수입 | B12: =IFERROR(VLOOKUP(1,$G$2:$H$8,2,FALSE),"") -> 매입비용 | C12: =SUM($B$2:$B$8) -> 31520000 | D12: =SUM($D$2:$D$8) -> 14760000 | E12: =C12-D12 -> 16760000 | J12: 2025
A13: =IFERROR(VLOOKUP($A$12,$A$2:$B$8,2,FALSE),"") -> 12800000 | B13: =IFERROR(VLOOKUP($B$12,$C$2:$D$8,2,FALSE),"") -> 5550000 | J13: 2026
J14: 2027
J15: 2028
J16: 2029
J17: 2030
J18: 2031
A19: 전년도 | B19: =$D$19-1 -> 2020 | C19: 금년도 | D19: =Data!$C$7 -> 2021 | E19: 구분 | F19: =Data!$C$8 -> 0 | G19: =Data!$C$9 -> 0 | J19: 2032
A20: 연도 | B20: 월 | C20: 수입액 | D20: 지출액 | E20: 합계 | J20: 2033
A21: =$B$19 -> 2020 | B21: 1 | C21: =IF(OR(AND($F$19=0,$G$19=0),AND($F$19="수입",$G$19=0)),SUMPRODUCT((YEAR(표1[일자])=$B$19)*(MONTH(표1[일자])=$B21)*(표1[구분]="수입")*(표1[금액])),IF(AND($F$19="수입",$G$19<>0),SUMPRODUCT((YEAR(표1[일자])=$B$19)*(MONTH(표1[일자])=$B21)*(표1[구분]="수입")*(표1[계정과목]=$G$19)*(표1[금액])),0)) -> 220000 | D21: =IF(OR(AND($F$19=0,$G$19=0),AND($F$19="지출",$G$19=0)),SUMPRODUCT((YEAR(표1[일자])=$B$19)*(MONTH(표1[일자])=$B21)*(표1[구분]="지출")*(표1[금액])),IF(AND($F$19="지출",$G$19<>0),SUMPRODUCT((YEAR(표1[일자])=$B$19)*(MONTH(표1[일자])=$B21)*(표1[구분]="지출")*(표1[계정과목]=$G$19)*(표1[금액])),0)) -> 0 | E21: =$C21-$D21 -> 220000 | J21: 2034
B22: 2 | C22: =IF(OR(AND($F$19=0,$G$19=0),AND($F$19="수입",$G$19=0)),SUMPRODUCT((YEAR(표1[일자])=$B$19)*(MONTH(표1[일자])=$B22)*(표1[구분]="수입")*(표1[금액])),IF(AND($F$19="수입",$G$19<>0),SUMPRODUCT((YEAR(표1[일자])=$B$19)*(MONTH(표1[일자])=$B22)*(표1[구분]="수입")*(표1[계정과목]=$G$19)*(표1[금액])),0)) -> 0 | D22: =IF(OR(AND($F$19=0,$G$19=0),AND($F$19="지출",$G$19=0)),SUMPRODUCT((YEAR(표1[일자])=$B$19)*(MONTH(표1[일자])=$B22)*(표1[구분]="지출")*(표1[금액])),IF(AND($F$19="지출",$G$19<>0),SUMPRODUCT((YEAR(표1[일자])=$B$19)*(MONTH(표1[일자])=$B22)*(표1[구분]="지출")*(표1[계정과목]=$G$19)*(표1[금액])),0)) -> 150000 | E22: =$C22-$D22 -> -150000 | J22: 2035
B23: 3 | C23: =IF(OR(AND($F$19=0,$G$19=0),AND($F$19="수입",$G$19=0)),SUMPRODUCT((YEAR(표1[일자])=$B$19)*(MONTH(표1[일자])=$B23)*(표1[구분]="수입")*(표1[금액])),IF(AND($F$19="수입",$G$19<>0),SUMPRODUCT((YEAR(표1[일자])=$B$19)*(MONTH(표1[일자])=$B23)*(표1[구분]="수입")*(표1[계정과목]=$G$19)*(표1[금액])),0)) -> 1200000 | D23: =IF(OR(AND($F$19=0,$G$19=0),AND($F$19="지출",$G$19=0)),SUMPRODUCT((YEAR(표1[일자])=$B$19)*(MONTH(표1[일자])=$B23)*(표1[구분]="지출")*(표1[금액])),IF(AND($F$19="지출",$G$19<>0),SUMPRODUCT((YEAR(표1[일자])=$B$19)*(MONTH(표1[일자])=$B23)*(표1[구분]="지출")*(표1[계정과목]=$G$19)*(표1[금액])),0)) -> 0 | E23: =$C23-$D23 -> 1200000 | J23: 2036
B24: 4 | C24: =IF(OR(AND($F$19=0,$G$19=0),AND($F$19="수입",$G$19=0)),SUMPRODUCT((YEAR(표1[일자])=$B$19)*(MONTH(표1[일자])=$B24)*(표1[구분]="수입")*(표1[금액])),IF(AND($F$19="수입",$G$19<>0),SUMPRODUCT((YEAR(표1[일자])=$B$19)*(MONTH(표1[일자])=$B24)*(표1[구분]="수입")*(표1[계정과목]=$G$19)*(표1[금액])),0)) -> 0 | D24: =IF(OR(AND($F$19=0,$G$19=0),AND($F$19="지출",$G$19=0)),SUMPRODUCT((YEAR(표1[일자])=$B$19)*(MONTH(표1[일자])=$B24)*(표1[구분]="지출")*(표1[금액])),IF(AND($F$19="지출",$G$19<>0),SUMPRODUCT((YEAR(표1[일자])=$B$19)*(MONTH(표1[일자])=$B24)*(표1[구분]="지출")*(표1[계정과목]=$G$19)*(표1[금액])),0)) -> 1000000 | E24: =$C24-$D24 -> -1000000 | J24: 2037
B25: 5 | C25: =IF(OR(AND($F$19=0,$G$19=0),AND($F$19="수입",$G$19=0)),SUMPRODUCT((YEAR(표1[일자])=$B$19)*(MONTH(표1[일자])=$B25)*(표1[구분]="수입")*(표1[금액])),IF(AND($F$19="수입",$G$19<>0),SUMPRODUCT((YEAR(표1[일자])=$B$19)*(MONTH(표1[일자])=$B25)*(표1[구분]="수입")*(표1[계정과목]=$G$19)*(표1[금액])),0)) -> 300000 | D25: =IF(OR(AND($F$19=0,$G$19=0),AND($F$19="지출",$G$19=0)),SUMPRODUCT((YEAR(표1[일자])=$B$19)*(MONTH(표1[일자])=$B25)*(표1[구분]="지출")*(표1[금액])),IF(AND($F$19="지출",$G$19<>0),SUMPRODUCT((YEAR(표1[일자])=$B$19)*(MONTH(표1[일자])=$B25)*(표1[구분]="지출")*(표1[계정과목]=$G$19)*(표1[금액])),0)) -> 0 | E25: =$C25-$D25 -> 300000 | J25: 2038
B26: 6 | C26: =IF(OR(AND($F$19=0,$G$19=0),AND($F$19="수입",$G$19=0)),SUMPRODUCT((YEAR(표1[일자])=$B$19)*(MONTH(표1[일자])=$B26)*(표1[구분]="수입")*(표1[금액])),IF(AND($F$19="수입",$G$19<>0),SUMPRODUCT((YEAR(표1[일자])=$B$19)*(MONTH(표1[일자])=$B26)*(표1[구분]="수입")*(표1[계정과목]=$G$19)*(표1[금액])),0)) -> 0 | D26: =IF(OR(AND($F$19=0,$G$19=0),AND($F$19="지출",$G$19=0)),SUMPRODUCT((YEAR(표1[일자])=$B$19)*(MONTH(표1[일자])=$B26)*(표1[구분]="지출")*(표1[금액])),IF(AND($F$19="지출",$G$19<>0),SUMPRODUCT((YEAR(표1[일자])=$B$19)*(MONTH(표1[일자])=$B26)*(표1[구분]="지출")*(표1[계정과목]=$G$19)*(표1[금액])),0)) -> 150000 | E26: =$C26-$D26 -> -150000 | J26: 2039
B27: 7 | C27: =IF(OR(AND($F$19=0,$G$19=0),AND($F$19="수입",$G$19=0)),SUMPRODUCT((YEAR(표1[일자])=$B$19)*(MONTH(표1[일자])=$B27)*(표1[구분]="수입")*(표1[금액])),IF(AND($F$19="수입",$G$19<>0),SUMPRODUCT((YEAR(표1[일자])=$B$19)*(MONTH(표1[일자])=$B27)*(표1[구분]="수입")*(표1[계정과목]=$G$19)*(표1[금액])),0)) -> 150000 | D27: =IF(OR(AND($F$19=0,$G$19=0),AND($F$19="지출",$G$19=0)),SUMPRODUCT((YEAR(표1[일자])=$B$19)*(MONTH(표1[일자])=$B27)*(표1[구분]="지출")*(표1[금액])),IF(AND($F$19="지출",$G$19<>0),SUMPRODUCT((YEAR(표1[일자])=$B$19)*(MONTH(표1[일자])=$B27)*(표1[구분]="지출")*(표1[계정과목]=$G$19)*(표1[금액])),0)) -> 0 | E27: =$C27-$D27 -> 150000 | J27: 2040
B28: 8 | C28: =IF(OR(AND($F$19=0,$G$19=0),AND($F$19="수입",$G$19=0)),SUMPRODUCT((YEAR(표1[일자])=$B$19)*(MONTH(표1[일자])=$B28)*(표1[구분]="수입")*(표1[금액])),IF(AND($F$19="수입",$G$19<>0),SUMPRODUCT((YEAR(표1[일자])=$B$19)*(MONTH(표1[일자])=$B28)*(표1[구분]="수입")*(표1[계정과목]=$G$19)*(표1[금액])),0)) -> 0 | D28: =IF(OR(AND($F$19=0,$G$19=0),AND($F$19="지출",$G$19=0)),SUMPRODUCT((YEAR(표1[일자])=$B$19)*(MONTH(표1[일자])=$B28)*(표1[구분]="지출")*(표1[금액])),IF(AND($F$19="지출",$G$19<>0),SUMPRODUCT((YEAR(표1[일자])=$B$19)*(MONTH(표1[일자])=$B28)*(표1[구분]="지출")*(표1[계정과목]=$G$19)*(표1[금액])),0)) -> 750000 | E28: =$C28-$D28 -> -750000 | J28: 2041
B29: 9 | C29: =IF(OR(AND($F$19=0,$G$19=0),AND($F$19="수입",$G$19=0)),SUMPRODUCT((YEAR(표1[일자])=$B$19)*(MONTH(표1[일자])=$B29)*(표1[구분]="수입")*(표1[금액])),IF(AND($F$19="수입",$G$19<>0),SUMPRODUCT((YEAR(표1[일자])=$B$19)*(MONTH(표1[일자])=$B29)*(표1[구분]="수입")*(표1[계정과목]=$G$19)*(표1[금액])),0)) -> 300000 | D29: =IF(OR(AND($F$19=0,$G$19=0),AND($F$19="지출",$G$19=0)),SUMPRODUCT((YEAR(표1[일자])=$B$19)*(MONTH(표1[일자])=$B29)*(표1[구분]="지출")*(표1[금액])),IF(AND($F$19="지출",$G$19<>0),SUMPRODUCT((YEAR(표1[일자])=$B$19)*(MONTH(표1[일자])=$B29)*(표1[구분]="지출")*(표1[계정과목]=$G$19)*(표1[금액])),0)) -> 0 | E29: =$C29-$D29 -> 300000 | J29: 2042
B30: 10 | C30: =IF(OR(AND($F$19=0,$G$19=0),AND($F$19="수입",$G$19=0)),SUMPRODUCT((YEAR(표1[일자])=$B$19)*(MONTH(표1[일자])=$B30)*(표1[구분]="수입")*(표1[금액])),IF(AND($F$19="수입",$G$19<>0),SUMPRODUCT((YEAR(표1[일자])=$B$19)*(MONTH(표1[일자])=$B30)*(표1[구분]="수입")*(표1[계정과목]=$G$19)*(표1[금액])),0)) -> 0 | D30: =IF(OR(AND($F$19=0,$G$19=0),AND($F$19="지출",$G$19=0)),SUMPRODUCT((YEAR(표1[일자])=$B$19)*(MONTH(표1[일자])=$B30)*(표1[구분]="지출")*(표1[금액])),IF(AND($F$19="지출",$G$19<>0),SUMPRODUCT((YEAR(표1[일자])=$B$19)*(MONTH(표1[일자])=$B30)*(표1[구분]="지출")*(표1[계정과목]=$G$19)*(표1[금액])),0)) -> 1000000 | E30: =$C30-$D30 -> -1000000 | J30: 2043
B31: 11 | C31: =IF(OR(AND($F$19=0,$G$19=0),AND($F$19="수입",$G$19=0)),SUMPRODUCT((YEAR(표1[일자])=$B$19)*(MONTH(표1[일자])=$B31)*(표1[구분]="수입")*(표1[금액])),IF(AND($F$19="수입",$G$19<>0),SUMPRODUCT((YEAR(표1[일자])=$B$19)*(MONTH(표1[일자])=$B31)*(표1[구분]="수입")*(표1[계정과목]=$G$19)*(표1[금액])),0)) -> 3000000 | D31: =IF(OR(AND($F$19=0,$G$19=0),AND($F$19="지출",$G$19=0)),SUMPRODUCT((YEAR(표1[일자])=$B$19)*(MONTH(표1[일자])=$B31)*(표1[구분]="지출")*(표1[금액])),IF(AND($F$19="지출",$G$19<>0),SUMPRODUCT((YEAR(표1[일자])=$B$19)*(MONTH(표1[일자])=$B31)*(표1[구분]="지출")*(표1[계정과목]=$G$19)*(표1[금액])),0)) -> 0 | E31: =$C31-$D31 -> 3000000 | J31: 2044
B32: 12 | C32: =IF(OR(AND($F$19=0,$G$19=0),AND($F$19="수입",$G$19=0)),SUMPRODUCT((YEAR(표1[일자])=$B$19)*(MONTH(표1[일자])=$B32)*(표1[구분]="수입")*(표1[금액])),IF(AND($F$19="수입",$G$19<>0),SUMPRODUCT((YEAR(표1[일자])=$B$19)*(MONTH(표1[일자])=$B32)*(표1[구분]="수입")*(표1[계정과목]=$G$19)*(표1[금액])),0)) -> 0 | D32: =IF(OR(AND($F$19=0,$G$19=0),AND($F$19="지출",$G$19=0)),SUMPRODUCT((YEAR(표1[일자])=$B$19)*(MONTH(표1[일자])=$B32)*(표1[구분]="지출")*(표1[금액])),IF(AND($F$19="지출",$G$19<>0),SUMPRODUCT((YEAR(표1[일자])=$B$19)*(MONTH(표1[일자])=$B32)*(표1[구분]="지출")*(표1[계정과목]=$G$19)*(표1[금액])),0)) -> 640000 | E32: =$C32-$D32 -> -640000 | J32: 2045
A33: =$D$19 -> 2021 | B33: 1 | C33: =IF(OR(AND($F$19=0,$G$19=0),AND($F$19="수입",$G$19=0)),SUMPRODUCT((YEAR(표1[일자])=$D$19)*(MONTH(표1[일자])=$B33)*(표1[구분]="수입")*(표1[금액])),IF(AND($F$19="수입",$G$19<>0),SUMPRODUCT((YEAR(표1[일자])=$D$19)*(MONTH(표1[일자])=$B33)*(표1[구분]="수입")*(표1[계정과목]=$G$19)*(표1[금액])),0)) -> 300000 | D33: =IF(OR(AND($F$19=0,$G$19=0),AND($F$19="지출",$G$19=0)),SUMPRODUCT((YEAR(표1[일자])=$D$19)*(MONTH(표1[일자])=$B33)*(표1[구분]="지출")*(표1[금액])),IF(AND($F$19="지출",$G$19<>0),SUMPRODUCT((YEAR(표1[일자])=$D$19)*(MONTH(표1[일자])=$B33)*(표1[구분]="지출")*(표1[계정과목]=$G$19)*(표1[금액])),0)) -> 0 | E33: =$C33-$D33 -> 300000 | J33: 2046
B34: 2 | C34: =IF(OR(AND($F$19=0,$G$19=0),AND($F$19="수입",$G$19=0)),SUMPRODUCT((YEAR(표1[일자])=$D$19)*(MONTH(표1[일자])=$B34)*(표1[구분]="수입")*(표1[금액])),IF(AND($F$19="수입",$G$19<>0),SUMPRODUCT((YEAR(표1[일자])=$D$19)*(MONTH(표1[일자])=$B34)*(표1[구분]="수입")*(표1[계정과목]=$G$19)*(표1[금액])),0)) -> 0 | D34: =IF(OR(AND($F$19=0,$G$19=0),AND($F$19="지출",$G$19=0)),SUMPRODUCT((YEAR(표1[일자])=$D$19)*(MONTH(표1[일자])=$B34)*(표1[구분]="지출")*(표1[금액])),IF(AND($F$19="지출",$G$19<>0),SUMPRODUCT((YEAR(표1[일자])=$D$19)*(MONTH(표1[일자])=$B34)*(표1[구분]="지출")*(표1[계정과목]=$G$19)*(표1[금액])),0)) -> 300000 | E34: =$C34-$D34 -> -300000 | J34: 2047
B35: 3 | C35: =IF(OR(AND($F$19=0,$G$19=0),AND($F$19="수입",$G$19=0)),SUMPRODUCT((YEAR(표1[일자])=$D$19)*(MONTH(표1[일자])=$B35)*(표1[구분]="수입")*(표1[금액])),IF(AND($F$19="수입",$G$19<>0),SUMPRODUCT((YEAR(표1[일자])=$D$19)*(MONTH(표1[일자])=$B35)*(표1[구분]="수입")*(표1[계정과목]=$G$19)*(표1[금액])),0)) -> 900000 | D35: =IF(OR(AND($F$19=0,$G$19=0),AND($F$19="지출",$G$19=0)),SUMPRODUCT((YEAR(표1[일자])=$D$19)*(MONTH(표1[일자])=$B35)*(표1[구분]="지출")*(표1[금액])),IF(AND($F$19="지출",$G$19<>0),SUMPRODUCT((YEAR(표1[일자])=$D$19)*(MONTH(표1[일자])=$B35)*(표1[구분]="지출")*(표1[계정과목]=$G$19)*(표1[금액])),0)) -> 0 | E35: =$C35-$D35 -> 900000 | J35: 2048
B36: 4 | C36: =IF(OR(AND($F$19=0,$G$19=0),AND($F$19="수입",$G$19=0)),SUMPRODUCT((YEAR(표1[일자])=$D$19)*(MONTH(표1[일자])=$B36)*(표1[구분]="수입")*(표1[금액])),IF(AND($F$19="수입",$G$19<>0),SUMPRODUCT((YEAR(표1[일자])=$D$19)*(MONTH(표1[일자])=$B36)*(표1[구분]="수입")*(표1[계정과목]=$G$19)*(표1[금액])),0)) -> 0 | D36: =IF(OR(AND($F$19=0,$G$19=0),AND($F$19="지출",$G$19=0)),SUMPRODUCT((YEAR(표1[일자])=$D$19)*(MONTH(표1[일자])=$B36)*(표1[구분]="지출")*(표1[금액])),IF(AND($F$19="지출",$G$19<>0),SUMPRODUCT((YEAR(표1[일자])=$D$19)*(MONTH(표1[일자])=$B36)*(표1[구분]="지출")*(표1[계정과목]=$G$19)*(표1[금액])),0)) -> 700000 | E36: =$C36-$D36 -> -700000 | J36: 2049
B37: 5 | C37: =IF(OR(AND($F$19=0,$G$19=0),AND($F$19="수입",$G$19=0)),SUMPRODUCT((YEAR(표1[일자])=$D$19)*(MONTH(표1[일자])=$B37)*(표1[구분]="수입")*(표1[금액])),IF(AND($F$19="수입",$G$19<>0),SUMPRODUCT((YEAR(표1[일자])=$D$19)*(MONTH(표1[일자])=$B37)*(표1[구분]="수입")*(표1[계정과목]=$G$19)*(표1[금액])),0)) -> 800000 | D37: =IF(OR(AND($F$19=0,$G$19=0),AND($F$19="지출",$G$19=0)),SUMPRODUCT((YEAR(표1[일자])=$D$19)*(MONTH(표1[일자])=$B37)*(표1[구분]="지출")*(표1[금액])),IF(AND($F$19="지출",$G$19<>0),SUMPRODUCT((YEAR(표1[일자])=$D$19)*(MONTH(표1[일자])=$B37)*(표1[구분]="지출")*(표1[계정과목]=$G$19)*(표1[금액])),0)) -> 0 | E37: =$C37-$D37 -> 800000 | J37: 2050
B38: 6 | C38: =IF(OR(AND($F$19=0,$G$19=0),AND($F$19="수입",$G$19=0)),SUMPRODUCT((YEAR(표1[일자])=$D$19)*(MONTH(표1[일자])=$B38)*(표1[구분]="수입")*(표1[금액])),IF(AND($F$19="수입",$G$19<>0),SUMPRODUCT((YEAR(표1[일자])=$D$19)*(MONTH(표1[일자])=$B38)*(표1[구분]="수입")*(표1[계정과목]=$G$19)*(표1[금액])),0)) -> 0 | D38: =IF(OR(AND($F$19=0,$G$19=0),AND($F$19="지출",$G$19=0)),SUMPRODUCT((YEAR(표1[일자])=$D$19)*(MONTH(표1[일자])=$B38)*(표1[구분]="지출")*(표1[금액])),IF(AND($F$19="지출",$G$19<>0),SUMPRODUCT((YEAR(표1[일자])=$D$19)*(MONTH(표1[일자])=$B38)*(표1[구분]="지출")*(표1[계정과목]=$G$19)*(표1[금액])),0)) -> 700000 | E38: =$C38-$D38 -> -700000
B39: 7 | C39: =IF(OR(AND($F$19=0,$G$19=0),AND($F$19="수입",$G$19=0)),SUMPRODUCT((YEAR(표1[일자])=$D$19)*(MONTH(표1[일자])=$B39)*(표1[구분]="수입")*(표1[금액])),IF(AND($F$19="수입",$G$19<>0),SUMPRODUCT((YEAR(표1[일자])=$D$19)*(MONTH(표1[일자])=$B39)*(표1[구분]="수입")*(표1[계정과목]=$G$19)*(표1[금액])),0)) -> 500000 | D39: =IF(OR(AND($F$19=0,$G$19=0),AND($F$19="지출",$G$19=0)),SUMPRODUCT((YEAR(표1[일자])=$D$19)*(MONTH(표1[일자])=$B39)*(표1[구분]="지출")*(표1[금액])),IF(AND($F$19="지출",$G$19<>0),SUMPRODUCT((YEAR(표1[일자])=$D$19)*(MONTH(표1[일자])=$B39)*(표1[구분]="지출")*(표1[계정과목]=$G$19)*(표1[금액])),0)) -> 0 | E39: =$C39-$D39 -> 500000
B40: 8 | C40: =IF(OR(AND($F$19=0,$G$19=0),AND($F$19="수입",$G$19=0)),SUMPRODUCT((YEAR(표1[일자])=$D$19)*(MONTH(표1[일자])=$B40)*(표1[구분]="수입")*(표1[금액])),IF(AND($F$19="수입",$G$19<>0),SUMPRODUCT((YEAR(표1[일자])=$D$19)*(MONTH(표1[일자])=$B40)*(표1[구분]="수입")*(표1[계정과목]=$G$19)*(표1[금액])),0)) -> 0 | D40: =IF(OR(AND($F$19=0,$G$19=0),AND($F$19="지출",$G$19=0)),SUMPRODUCT((YEAR(표1[일자])=$D$19)*(MONTH(표1[일자])=$B40)*(표1[구분]="지출")*(표1[금액])),IF(AND($F$19="지출",$G$19<>0),SUMPRODUCT((YEAR(표1[일자])=$D$19)*(MONTH(표1[일자])=$B40)*(표1[구분]="지출")*(표1[계정과목]=$G$19)*(표1[금액])),0)) -> 500000 | E40: =$C40-$D40 -> -500000
...
